BEGIN:VCALENDAR
VERSION:2.0
PRODID:-//Wings of Wonder - ECPv6.15.20//NONSGML v1.0//EN
CALSCALE:GREGORIAN
METHOD:PUBLISH
X-ORIGINAL-URL:https://wingsofwonder.org
X-WR-CALDESC:Events for Wings of Wonder
REFRESH-INTERVAL;VALUE=DURATION:PT1H
X-Robots-Tag:noindex
X-PUBLISHED-TTL:PT1H
BEGIN:VTIMEZONE
TZID:America/Detroit
BEGIN:DAYLIGHT
TZOFFSETFROM:-0500
TZOFFSETTO:-0400
TZNAME:EDT
DTSTART:20140309T070000
END:DAYLIGHT
BEGIN:STANDARD
TZOFFSETFROM:-0400
TZOFFSETTO:-0500
TZNAME:EST
DTSTART:20141102T060000
END:STANDARD
BEGIN:DAYLIGHT
TZOFFSETFROM:-0500
TZOFFSETTO:-0400
TZNAME:EDT
DTSTART:20150308T070000
END:DAYLIGHT
BEGIN:STANDARD
TZOFFSETFROM:-0400
TZOFFSETTO:-0500
TZNAME:EST
DTSTART:20151101T060000
END:STANDARD
BEGIN:DAYLIGHT
TZOFFSETFROM:-0500
TZOFFSETTO:-0400
TZNAME:EDT
DTSTART:20160313T070000
END:DAYLIGHT
BEGIN:STANDARD
TZOFFSETFROM:-0400
TZOFFSETTO:-0500
TZNAME:EST
DTSTART:20161106T060000
END:STANDARD
BEGIN:DAYLIGHT
TZOFFSETFROM:-0500
TZOFFSETTO:-0400
TZNAME:EDT
DTSTART:20170312T070000
END:DAYLIGHT
BEGIN:STANDARD
TZOFFSETFROM:-0400
TZOFFSETTO:-0500
TZNAME:EST
DTSTART:20171105T060000
END:STANDARD
END:VTIMEZONE
BEGIN:VEVENT
DTSTART;TZID=America/Detroit:20160611T120000
DTEND;TZID=America/Detroit:20160611T170000
DTSTAMP:20260425T080317
CREATED:20160429T001454Z
LAST-MODIFIED:20160429T002014Z
UID:4213-1465646400-1465664400@wingsofwonder.org
SUMMARY:We Are Family
DESCRIPTION:It’s here!  It’s here!  Our annual donor appreciation event.  Stay tuned for more information.  Be sure we have your email address so we can contact you!
URL:https://wingsofwonder.org/event/we-are-family/
LOCATION:Wings of Wonder\, 13035 S Greenway Trl\,  \, Empire\,\, MI\, 49630\, United States
END:VEVENT
BEGIN:VEVENT
DTSTART;TZID=America/Detroit:20160521T110000
DTEND;TZID=America/Detroit:20160521T140000
DTSTAMP:20260425T080317
CREATED:20160429T022918Z
LAST-MODIFIED:20160429T022918Z
UID:4221-1463828400-1463839200@wingsofwonder.org
SUMMARY:WOW attends the Tawas Point Birding Festival\, May 21 in Iosco County
DESCRIPTION:Register now for the Tawas Point Birding Festival\, May 19 – 22 in Iosco County. Rebecca and the WOW Raptors will be making an appearance on Saturday\, May 21 at 11:00 am and again at 1:30 pm.
URL:https://wingsofwonder.org/event/wow-attends-tawas-point-birding-festival-may-21-iosco-county/
LOCATION:East Tawas Community Center\, 760 Newman St\, East Tawas\, MI\, United States
CATEGORIES:Educational Event
ORGANIZER;CN="Wings of Wonder":MAILTO:wow@wingsofwonder.org
END:VEVENT
BEGIN:VEVENT
DTSTART;TZID=America/Detroit:20160514T150000
DTEND;TZID=America/Detroit:20160514T160000
DTSTAMP:20260425T080317
CREATED:20160426T182513Z
LAST-MODIFIED:20160429T020008Z
UID:4206-1463238000-1463241600@wingsofwonder.org
SUMMARY:International Migratory Bird Day - Free Raptor Program
DESCRIPTION:Free Raptor Program –  Rebecca Lessard and the Wings of Wonder ambassador raptors will make an appearance at the International Migratory Bird Day Celebration in Mt. Pleasant at the Ziibiwing Cultural Center from 3:00 to 4:00 pm.
URL:https://wingsofwonder.org/event/free-raptor-program/
LOCATION:Ziibiwing Cultural Center\, 6650 E Broadway\, Mt Pleasant\, 48858
CATEGORIES:Educational Event
END:VEVENT
BEGIN:VEVENT
DTSTART;TZID=America/Detroit:20160509T150000
DTEND;TZID=America/Detroit:20160509T180000
DTSTAMP:20260425T080317
CREATED:20160429T021803Z
LAST-MODIFIED:20160429T021803Z
UID:4219-1462806000-1462816800@wingsofwonder.org
SUMMARY:WOW visits Mackinaw Island
DESCRIPTION:Rebecca and a few of the Wings of Wonder ambassador raptors will be making a private appearance on Mackinaw Island.  We’re looking forward to the ferry ride and the horse-drawn carriage!  This event is not open to the public.
URL:https://wingsofwonder.org/event/wow-visits-mackinaw-island/
LOCATION:Unnamed Venue\, Traverse City\, Michigan\, United States
CATEGORIES:Educational Event
ATTACH;FMTTYPE=image/jpeg:https://wingsofwonder.org/wp-content/uploads/2016/04/IMG_9220.jpg
ORGANIZER;CN="Wings of Wonder":MAILTO:wow@wingsofwonder.org
END:VEVENT
BEGIN:VEVENT
DTSTART;TZID=America/Detroit:20160507T130000
DTEND;TZID=America/Detroit:20160507T150000
DTSTAMP:20260425T080317
CREATED:20160426T180948Z
LAST-MODIFIED:20160429T020215Z
UID:4201-1462626000-1462633200@wingsofwonder.org
SUMMARY:Mohawks for Munson - with an appearance by Wings of Wonder
DESCRIPTION:Rock a Mohawk for Munson – a new fundraising event focused on showing support to the local caner community and the newly founded Cowell Family Cancer Center. Rebecca and the Wings of Wonder raptor ambassadors will be in attendance from 1-3:00 pm showing their support. Location: North Peak Brewing Company Parking Lot
URL:https://wingsofwonder.org/event/mohawks-munson-appearance-wings-wonder/
LOCATION:North Peak Brewing Company\, 400 W Front St\, Traverse City\, 49684
CATEGORIES:Fundraiser
ATTACH;FMTTYPE=image/jpeg:https://wingsofwonder.org/wp-content/uploads/2016/04/IMG_9226-1.jpg
END:VEVENT
BEGIN:VEVENT
DTSTART;TZID=America/Detroit:20160430T110000
DTEND;TZID=America/Detroit:20160430T120000
DTSTAMP:20260425T080317
CREATED:20160426T174713Z
LAST-MODIFIED:20160429T021118Z
UID:4196-1462014000-1462017600@wingsofwonder.org
SUMMARY:Free Raptor Program at Horizon Bookstore Traverse City
DESCRIPTION:Live raptors accompany each and every program so audience members have the opportunity for a close up look at these magnificent birds. Rebecca will have some unique Wings of Wonder merchandise available for sale.
URL:https://wingsofwonder.org/event/free-raptor-program-horizon-bookstore-traverse-city/
LOCATION:Horizon Books\, 243 E Front St\, Traverse City\, 49684
ATTACH;FMTTYPE=image/jpeg:https://wingsofwonder.org/wp-content/uploads/2016/04/IMG_9469.jpg
END:VEVENT
BEGIN:VEVENT
DTSTART;TZID=America/Detroit:20151219T180000
DTEND;TZID=America/Detroit:20151219T190000
DTSTAMP:20260425T080317
CREATED:20151118T105928Z
LAST-MODIFIED:20151118T105928Z
UID:4133-1450548000-1450551600@wingsofwonder.org
SUMMARY:Raptor Program at Crystal Mountain Resort
DESCRIPTION:Meet the Wings of Wonder Ambassador Birds and Rebecca Lessard.  Crystal Mountain Resort hosts this special event that is open to the public and free!
URL:https://wingsofwonder.org/event/raptor-program-at-crystal-mountain-resort/
LOCATION:Crystal Mountain Resort\, 12500 Crystal Mountain Dr\, Thompsonville\, MI\, 49683-9742\, United States
END:VEVENT
BEGIN:VEVENT
DTSTART;TZID=America/Detroit:20151128T110000
DTEND;TZID=America/Detroit:20151221T120000
DTSTAMP:20260425T080317
CREATED:20151205T005038Z
LAST-MODIFIED:20151205T005038Z
UID:4147-1448708400-1450699200@wingsofwonder.org
SUMMARY:Bald Eagle Release
DESCRIPTION:Join us as we set Miracle Boy free!
URL:https://wingsofwonder.org/event/bald-eagle-release/
LOCATION:MI
END:VEVENT
BEGIN:VEVENT
DTSTART;TZID=America/Detroit:20151126T090000
DTEND;TZID=America/Detroit:20151126T100000
DTSTAMP:20260425T080317
CREATED:20151019T134213Z
LAST-MODIFIED:20151112T054158Z
UID:3945-1448528400-1448532000@wingsofwonder.org
SUMMARY:Turkey Vulture Trot
DESCRIPTION:  \nBegin Thanksgiving Day by boosting your metabolism for the feast to come! Crystal’s 11th Annual Turkey Vulture Trot 5K run/walk is held on a paved\, looped-course thru the scenic rolling terrain of Crystal Mountain. Top male and female finishers overall in the 5k receive a Crystal Premier Season Pass!  Will Doolin\, the Wings of Wonder mascot\, be there to cheer you on??   Check out the Crystal Mountain Resort events calendar for all the details\, registration fees and race info.  Hope to see you there!
URL:https://wingsofwonder.org/event/turkey-vulture-trot/
LOCATION:11th Annual Turkey Vulture Trot\, 12500 Crystal Mountain Dr\, Thompsonville\, MI\, 49683\, United States
CATEGORIES:Educational Event,Fundraiser
END:VEVENT
BEGIN:VEVENT
DTSTART;TZID=America/Detroit:20151106T154500
DTEND;TZID=America/Detroit:20151106T164500
DTSTAMP:20260425T080317
CREATED:20151018T200107Z
LAST-MODIFIED:20151018T200107Z
UID:3908-1446824700-1446828300@wingsofwonder.org
SUMMARY:Charlevoix Public Library
DESCRIPTION:3:45 – 4:45 pm  Meet Rebecca Lessard and the Wings of Wonder Raptors.  This event is being sponsored by our good friends at St. Mary’s Cement. \n 
URL:https://wingsofwonder.org/event/charlevoix-public-library-2/
LOCATION:Charlevoix Public Library\, 220 Clinton St\, Charlevoix\, 49720\, United States
ORGANIZER;CN="Wings of Wonder":MAILTO:wow@wingsofwonder.org
END:VEVENT
BEGIN:VEVENT
DTSTART;TZID=America/Detroit:20151010T080000
DTEND;TZID=America/Detroit:20151010T170000
DTSTAMP:20260425T080317
CREATED:20150815T223143Z
LAST-MODIFIED:20150815T223143Z
UID:3849-1444464000-1444496400@wingsofwonder.org
SUMMARY:Grass River Natural Area Raptor Program
DESCRIPTION:
URL:https://wingsofwonder.org/event/grass-river-natural-area-raptor-program/
LOCATION:MI
END:VEVENT
BEGIN:VEVENT
DTSTART;TZID=America/Detroit:20150926T080000
DTEND;TZID=America/Detroit:20150926T170000
DTSTAMP:20260425T080317
CREATED:20150815T223018Z
LAST-MODIFIED:20150815T223018Z
UID:3842-1443254400-1443286800@wingsofwonder.org
SUMMARY:Acme Fall Festival: Raptor Program
DESCRIPTION:
URL:https://wingsofwonder.org/event/acme-fall-festival-raptor-program/
LOCATION:Unnamed Venue\, Acme Township\, MI\, United States
END:VEVENT
BEGIN:VEVENT
DTSTART;VALUE=DATE:20150906
DTEND;VALUE=DATE:20150907
DTSTAMP:20260425T080317
CREATED:20150813T234123Z
LAST-MODIFIED:20150815T215303Z
UID:3821-1441497600-1441583999@wingsofwonder.org
SUMMARY:International Vulture Awareness Day
DESCRIPTION:
URL:https://wingsofwonder.org/event/international-vulture-awareness-day/
LOCATION:MI
END:VEVENT
END:VCALENDAR